BEGIN:VCALENDAR
VERSION:2.0
PRODID:-//Laste jooga - ECPv6.8.2//NONSGML v1.0//EN
CALSCALE:GREGORIAN
METHOD:PUBLISH
X-ORIGINAL-URL:https://lastejooga.ee
X-WR-CALDESC:Events for Laste jooga
REFRESH-INTERVAL;VALUE=DURATION:PT1H
X-Robots-Tag:noindex
X-PUBLISHED-TTL:PT1H
BEGIN:VTIMEZONE
TZID:Europe/Helsinki
BEGIN:DAYLIGHT
TZOFFSETFROM:+0200
TZOFFSETTO:+0300
TZNAME:EEST
DTSTART:20240331T010000
END:DAYLIGHT
BEGIN:STANDARD
TZOFFSETFROM:+0300
TZOFFSETTO:+0200
TZNAME:EET
DTSTART:20241027T010000
END:STANDARD
END:VTIMEZONE
BEGIN:VEVENT
DTSTART;VALUE=DATE:20240805
DTEND;VALUE=DATE:20240817
DTSTAMP:20260423T013544
CREATED:20220710T151254Z
LAST-MODIFIED:20240720T064123Z
UID:2121-1722816000-1723852799@lastejooga.ee
SUMMARY:Laste ja noorte suvelaager
DESCRIPTION:Augustikuus tuleb meil taas kaks vinget laagrit\, mis on palju enamat kui klassikalised laagrid\, sest meil on alati tore väike seltskond\, personaalne lähenemine\, gurmee toit\, huvitavad tegevused jpm. Väga unikaalne käsitöö\, nagu osalejad tavatsevad öelda \n\n\n\n\n*5-9.aug toimub Tallinnas linnalaager LASTELE;\n\n*12-16.aug toimub suvekodu koos ööbimisega NOORTELE (Tallinnast 80 km eemal).\n\n\nSaab nii supitada\, ujuda\, joogatada\, ratsutada\, kokata\, matkata\, muuseumites käia\, kino jpm põnevat. Noored saavad soovi korral isegi itaalia keelt õppida \n\n\n\n\nLisainfo saamiseks kirjutage palun: kristel@lastejooga.ee\n\nMTÜ Laste Jooga korraldab suvelaagreid lastele ja noortele aastast 2013.
URL:https://lastejooga.ee/sundmused/laste-ja-noorte-suvelaager/
CATEGORIES:Sündmused,Tunnid ja laagrid
ATTACH;FMTTYPE=image/jpeg:https://lastejooga.ee/wp-content/uploads/2022/07/34266541_1922713737759310_754296690692849664_n.jpg
ORGANIZER;CN="Kristel Paimla":MAILTO:kristel@lastejooga.ee
END:VEVENT
END:VCALENDAR