BEGIN:VCALENDAR
VERSION:2.0
PRODID:-//Laste jooga - ECPv6.8.2//NONSGML v1.0//EN
CALSCALE:GREGORIAN
METHOD:PUBLISH
X-ORIGINAL-URL:https://lastejooga.ee
X-WR-CALDESC:Events for Laste jooga
REFRESH-INTERVAL;VALUE=DURATION:PT1H
X-Robots-Tag:noindex
X-PUBLISHED-TTL:PT1H
BEGIN:VTIMEZONE
TZID:Europe/Helsinki
BEGIN:DAYLIGHT
TZOFFSETFROM:+0200
TZOFFSETTO:+0300
TZNAME:EEST
DTSTART:20240331T010000
END:DAYLIGHT
BEGIN:STANDARD
TZOFFSETFROM:+0300
TZOFFSETTO:+0200
TZNAME:EET
DTSTART:20241027T010000
END:STANDARD
END:VTIMEZONE
BEGIN:VEVENT
DTSTART;TZID=Europe/Helsinki:20241026T080000
DTEND;TZID=Europe/Helsinki:20241208T170000
DTSTAMP:20260422T200518
CREATED:20240720T062957Z
LAST-MODIFIED:20241021T031659Z
UID:5418-1729929600-1733677200@lastejooga.ee
SUMMARY:Laste jooga õpetajate koolitus
DESCRIPTION:Väga ootame teid osalema meie laste jooga õpetajate mikrokoolitusele\, sest nii laste kui noorte vaimse ja füüsilise tervise toetamine on ühiskonnas väga aktuaalne ja üha olulisem valdkond. Samas on see ka suur privileeg aidata kaasa meie tänaste ja tulevase põlvkondade sirgumisele\, anda oma panus paremale homsele\, sest see on koolitus\, mis puudutab nii paljusid. \nMeie 8-päevasel koolitusel teeme selgeks peamised jooga asendid\, harjutuste seeriad\, tegevused\, sh mängud\, mis on suunatud lastele ja noortele. Niisamuti jooga tundide juhendamise põhimõtted koos tunni kavade koostamisega. \nKoolitus toimub kundalini jooga baasilt ning annab ettevalmistuse nii laste kui noorte jooga tundide iseseisvaks läbiviimiseks ja töötamaks laste jooga juhendajana. Ta annab ettevalmistuse juhendama jooga tunde vanusele kuni 18 aastat. \nKoolitus sobib ka ametialaseks enesetäienduseks kõikidele õpetajatele\, terapeutidele\, eripedagoogigele\, treeneritele. Niisamuti (tulevastele) lapsevanematele ja vanavanematele. Kuid ka inimestele\, kes lihtsalt soovivad oma ellu juurde elurõõmu\, mängulisust\, muutust\, uusi ideid ja toredaid inimesi. Eelnev kogemus joogast ei ole oluline. \nKoolituse sisu:\n1. Laste\, noorte ja täiskasvanute kundalini jooga ajalugu\, teooria ja olulised aspektid.\n2. Laste ja noorte joogas kasutatavad jooga asendid ehk asanad\, harjutuste seeriad\, nende modifikatsioonid ning sõnavara tundide juhendamisel.\n3. Erinevate hingamis- ja lõdvestumistehnikate\, mantrate\, meditatsioonide ja teiste elementide kasutamine laste ja noorte joogas.\n4. Laste ja noorte jooga õpetamise metodoloogia: kuidas koostada erinevaid laste jooga tundide kavasid vastavalt vanusele ja nende erilisusele\, millised on laste jooga õpetamise põhimõtteid\, erisused\, kuidas viia läbi laste jooga tunde mänguliselt\, kaasavalt\, turvaliselt ja funktsionaalselt.\n5. Laste ja noorte jooga praktika\, jooga tundide ettevalmistus grupitööna ning kirjalik kodutöö tunnistuse saamiseks. \nKoolituse kestvus on 200 akadeemilist tundi\, millest auditoorse töö maht on kokku 100 tundi. Auditoorne töö toimub nädalavahetustel Tallinnas ja koos käiakse iga kahe või kolme nädala tagant\, lisaks toimuvad ka Zoomi-kohtumised. Praktilise ja iseseisva töö maht on kokku 100 tundi ning see toimub vastavalt personaalselt valitud ajale ja kohale. \nAuditoorse töö kuupäevad:\n \n26.-27. oktoober\n9.-10. november\n23.-24. november\n7.-8. detsember\n  \nKoolitust viib läbi Kristel Paimla\, kes on kolme lapse ema\, rahvusvaheliselt sertifitseeritud kundalini jooga õpetaja ja laste jooga õpetaja ning kes on viimased 9 aastatu korraldanud Eestis laste jooga õpetajate koolitusi. \n  \nLoe ka osalejate tagasiside koolitusele. Vaata ka video: https://vimeo.com/182371001 ning tutvu ka FB lehega: https://www.facebook.com/events/851701413485576 \nTäpsem info ja registreerumine: kristel@lastejooga.ee
URL:https://lastejooga.ee/sundmused/laste-jooga-opetajate-koolitus/
LOCATION:Õnnelaboratoorium\, Mõisa 4\, Audi Maja 8.k\, Tallinn\, Eesti
CATEGORIES:Koolitused ja kursused,Sündmused
ATTACH;FMTTYPE=image/jpeg:https://lastejooga.ee/wp-content/uploads/2024/07/LasteJooga-0110-1-2.jpg
END:VEVENT
END:VCALENDAR