BEGIN:VCALENDAR
VERSION:2.0
PRODID:-//Laste jooga - ECPv6.8.2//NONSGML v1.0//EN
CALSCALE:GREGORIAN
METHOD:PUBLISH
X-WR-CALNAME:Laste jooga
X-ORIGINAL-URL:https://lastejooga.ee
X-WR-CALDESC:Events for Laste jooga
REFRESH-INTERVAL;VALUE=DURATION:PT1H
X-Robots-Tag:noindex
X-PUBLISHED-TTL:PT1H
BEGIN:VTIMEZONE
TZID:Europe/Helsinki
BEGIN:DAYLIGHT
TZOFFSETFROM:+0200
TZOFFSETTO:+0300
TZNAME:EEST
DTSTART:20240331T010000
END:DAYLIGHT
BEGIN:STANDARD
TZOFFSETFROM:+0300
TZOFFSETTO:+0200
TZNAME:EET
DTSTART:20241027T010000
END:STANDARD
END:VTIMEZONE
BEGIN:VEVENT
DTSTART;TZID=Europe/Helsinki:20240413T100000
DTEND;TZID=Europe/Helsinki:20240414T170000
DTSTAMP:20260425T133715
CREATED:20240211T112002Z
LAST-MODIFIED:20240310T114900Z
UID:5082-1713002400-1713114000@lastejooga.ee
SUMMARY:Lastejooga töötuba
DESCRIPTION:Juba mõnda aega ootad häid ideid ja inspiratsiooni? Tahad puhata ja mängida? Igatsed rõõmurohket kvaliteetaega\, et oma patareisid laadida? Soovid rikastada oma töid ja tegemisi uute nippidega? Soovid olla parem versioon iseendast? Proovida midagi täiesti uut?\nKui märkasid end vastamas mõnele küsimusele “jah”\, siis tule võta osa meie lastejooga mängude töötoast\, sest meiega koos saab nii mängida\, naerda\, laulda\, tantsida\, joonistada\, kui ka palju uut inspiratsiooni väga toredate inimeste ja mõnusa atmosfääri keskmes.\nLisaks saab kuhjaga nippe rõõmsate ja mänguliste olemiste sisustamiseks. Olgu selleks siis jooga\, trenn\, kool\, lasteaed\, huvikool\, teraapiatunnid\, töötubade korraldamine\, sünnipäevade sisustamine\, mõnus ajaveetmine\, rekreatsioon jne\, sest töötoas läbitut ja kogetut saab kaasa võtta kõikjale – tillukestest inimestest täiskasvanuteni välja.\nTöötuba viivad läbi oma ala armastatud tegijad laste jooga õpetajate koolituse 3. mooduli raames:\n*Kundalini jooga ja laste jooga õpetaja Ave Palu\n*loovtantsu ja kundalini jooga õpetaja Anu Sööt\, PhD\n*Loovtantsu ja laste jooga õpetaja Janne Ristimets\n*Kundalini jooga ja laste jooga õpetaja Kristel Paimla\nVaata ka väikest maitseproovi videos\, mis meie töötoas saama hakkab\, sest üks klipike räägib alati rohkem kui 100 sõna:\nhttps://vimeo.com/180889795\n\n*************************************************************\n* Kahepäevase töötoa maksumus on 350 eurot.\nNB! Laste jooga õpetajatele kehtib 10% hinnasoodustus.\n*Töötoa läbimise eest saab vastava tunnistuse nii eesti kui inglise keeles.\n*Lisaks on kohapeal võimalik osta joogariideid\, õppematerjale\, töövahendeid. Niisamuti Anu Söödi autoripühendusega raamatuid “Loovtants”\, “Loovmäng”\, “Kaasaegne tantsupedagoogika” ja “Tantsuõpetuse käsiraamat.\n*Kaugemalt tulijad saavad soovi korral ööbida ka tantsustuudios sümboolse tasu eest (10 eurot öö).\n*Juhul kui soovid sukelduda veelgi sügavamale\, siis vali kindlasti meie ainulaadne ja täispikk 300-tunnine laste jooga õpetajate koolitus\, mis algab juba 16.märtsil 2024: https://lastejooga.ee/…/laste-jooga-opetajate-koolitus…/\nAitäh\, et oled koos meiega:\nwww.lastejooga.ee\nwww.facebook.com/lastejooga\n\n*Kuna kohtade arv on piiratud\, siis registreeru lisainfo saamiseks ja koha kinnitamiseks grupis juba täna: kristel@lastejooga.ee \nKuva vähem
URL:https://lastejooga.ee/sundmused/lastejooga-tootuba/
CATEGORIES:Koolitused ja kursused,Sündmused
ATTACH;FMTTYPE=image/jpeg:https://lastejooga.ee/wp-content/uploads/2024/02/tootuba.jpeg
ORGANIZER;CN="Kristel Paimla":MAILTO:kristel@lastejooga.ee
END:VEVENT
END:VCALENDAR