BEGIN:VCALENDAR
VERSION:2.0
PRODID:-//Laste jooga - ECPv6.8.2//NONSGML v1.0//EN
CALSCALE:GREGORIAN
METHOD:PUBLISH
X-WR-CALNAME:Laste jooga
X-ORIGINAL-URL:https://lastejooga.ee
X-WR-CALDESC:Events for Laste jooga
REFRESH-INTERVAL;VALUE=DURATION:PT1H
X-Robots-Tag:noindex
X-PUBLISHED-TTL:PT1H
BEGIN:VTIMEZONE
TZID:Europe/Helsinki
BEGIN:DAYLIGHT
TZOFFSETFROM:+0200
TZOFFSETTO:+0300
TZNAME:EEST
DTSTART:20140330T010000
END:DAYLIGHT
BEGIN:STANDARD
TZOFFSETFROM:+0300
TZOFFSETTO:+0200
TZNAME:EET
DTSTART:20141026T010000
END:STANDARD
BEGIN:DAYLIGHT
TZOFFSETFROM:+0200
TZOFFSETTO:+0300
TZNAME:EEST
DTSTART:20150329T010000
END:DAYLIGHT
BEGIN:STANDARD
TZOFFSETFROM:+0300
TZOFFSETTO:+0200
TZNAME:EET
DTSTART:20151025T010000
END:STANDARD
TZID:UTC
BEGIN:STANDARD
TZOFFSETFROM:+0000
TZOFFSETTO:+0000
TZNAME:UTC
DTSTART:20150101T000000
END:STANDARD
END:VTIMEZONE
BEGIN:VEVENT
DTSTART;TZID=Europe/Helsinki:20150917T090000
DTEND;TZID=Europe/Helsinki:20150918T160000
DTSTAMP:20260419T215008
CREATED:20160910T141457Z
LAST-MODIFIED:20170429T120825Z
UID:1860-1442480400-1442592000@lastejooga.ee
SUMMARY:Laste jooga ratsalaager
DESCRIPTION:Laagris teeme:\nMaksumus:\n1. päev 40 € (Sisaldab tervislikku lõunat ja oodet!)\n2. päeva 70 € (Sisaldab tervislikku lõunat ja oodet!) \nRegistreeru:\nkristiinale@yahoo.cm või kristel.paimla@gmail.com.\nTelefon 5053982 – Kristina ja 5216525 – Kristel
URL:https://lastejooga.ee/sundmused/laste-jooga-ratsalaager/
LOCATION:Toom-Rüütli 10-2\, Toom-Rüütli 10-2\, Tallinn\, Estonia
CATEGORIES:Sündmused,Tunnid ja laagrid
ATTACH;FMTTYPE=image/jpeg:https://lastejooga.ee/wp-content/uploads/2016/09/Laste-jooga-ratsalaager-201510-1.jpg
ORGANIZER;CN="Kristiina Saul":MAILTO:kristiinale@yahoo.com
END:VEVENT
BEGIN:VEVENT
DTSTART;TZID=UTC:20150810T093000
DTEND;TZID=UTC:20150811T163000
DTSTAMP:20260419T215008
CREATED:20150729T095722Z
LAST-MODIFIED:20160910T114659Z
UID:1290-1439199000-1439310600@lastejooga.ee
SUMMARY:Laste jooga ranna- ja surfilaager
DESCRIPTION:Laagris teeme: Joogatame\, surfame\, teeme liivaskulptuure\, meisterdame päikesepüüdja\, isikliku mandala\, ning tuulelohe. Iga päev koostöö Funsurf surfikooliga. \nMaksumus:\n1. päev 45 € (Sisaldab tervislikku lõunat ja oodet!)\n2. päeva 80 € (Sisaldab tervislikku lõunat ja oodet!) \nRegistreeru:\nkristiinale@yahoo.cm või kristel.paimla@gmail.com.\nTelefon 5053982 – Kristina ja 5216525 – Kristel
URL:https://lastejooga.ee/sundmused/laste-jooga-ranna-ja-surfilaager/
LOCATION:Toom-Rüütli 10-2\, Toom-Rüütli 10-2\, Tallinn\, Estonia
CATEGORIES:Sündmused,Tunnid ja laagrid
ATTACH;FMTTYPE=image/jpeg:https://lastejooga.ee/wp-content/uploads/2016/08/Lastejooga-laager-11-1.jpg
END:VEVENT
BEGIN:VEVENT
DTSTART;TZID=UTC:20150710T090000
DTEND;TZID=UTC:20150711T160000
DTSTAMP:20260419T215008
CREATED:20160910T144524Z
LAST-MODIFIED:20160910T144524Z
UID:1903-1436518800-1436630400@lastejooga.ee
SUMMARY:Laste jooga suvelaager 2015
DESCRIPTION:Laagris teeme: \nMaksumus:\n1. päev 40 € (Sisaldab tervislikku lõunat ja oodet!)\n2. päeva 70 € (Sisaldab tervislikku lõunat ja oodet!) \nRegistreeru:\nkristiinale@yahoo.cm või kristel.paimla@gmail.com.\nTelefon 5053982 – Kristina ja 5216525 – Kristel
URL:https://lastejooga.ee/sundmused/laste-jooga-suvelaager-2015/
LOCATION:Toom-Rüütli 10-2\, Toom-Rüütli 10-2\, Tallinn\, Estonia
CATEGORIES:Sündmused,Tunnid ja laagrid
ATTACH;FMTTYPE=image/jpeg:https://lastejooga.ee/wp-content/uploads/2016/09/Laste-jooga-suvelaager-2015-07-1.jpg
ORGANIZER;CN="Kristel Paimla":MAILTO:kristel@lastejooga.ee
END:VEVENT
BEGIN:VEVENT
DTSTART;TZID=UTC:20150615T090000
DTEND;TZID=UTC:20150615T163000
DTSTAMP:20260419T215008
CREATED:20150605T094451Z
LAST-MODIFIED:20160910T123307Z
UID:1293-1434358800-1434385800@lastejooga.ee
SUMMARY:Laste jooga\, looma- ja loodus laager
DESCRIPTION:Laagris teeme: Uudistame loomaaias\, meisterdame kivielukaid\, teeme uut moodi loomakunsti\, õpime\, kuidas looduses toime tulla! Igal hommikul laste jooga! \nMaksumus:\n1. päev 45 € (Sisaldab tervislikku lõunat ja oodet!)\n2. päeva 80 € (Sisaldab tervislikku lõunat ja oodet!) \nRegistreeru:\nkristiinale@yahoo.cm või kristel.paimla@gmail.com.\nTelefon 5053982 – Kristina ja 5216525 – Kristel
URL:https://lastejooga.ee/sundmused/laste-jooga-looma-ja-loodus-laager/
CATEGORIES:Sündmused,Tunnid ja laagrid
ATTACH;FMTTYPE=image/jpeg:https://lastejooga.ee/wp-content/uploads/2016/08/Lastejooga-laager-12-1.jpg
END:VEVENT
BEGIN:VEVENT
DTSTART;TZID=Europe/Helsinki:20150523T093000
DTEND;TZID=Europe/Helsinki:20150524T160000
DTSTAMP:20260419T215008
CREATED:20150510T092754Z
LAST-MODIFIED:20160910T133129Z
UID:1227-1432373400-1432483200@lastejooga.ee
SUMMARY:Laste jooga Mustkunsti ja maagia laager
DESCRIPTION:Laagris teeme: Mustkunsti show ja töötuba. Maagia töötuba. Lisaks teeme iga päev laste joogat\, meisterdame võlukepi\, kristallidest amuleti\, käevõru. Oleme palju õues\, kus mängime\, teeme pikniku ja avastame vanalinna \nMaksumus:\n1. päev 45 € (Sisaldab tervislikku lõunat ja oodet!)\n2. päeva 80 € (Sisaldab tervislikku lõunat ja oodet!) \nRegistreeru:\nkristiinale@yahoo.cm või kristel.paimla@gmail.com.\nTelefon 5053982 – Kristina ja 5216525 – Kristel
URL:https://lastejooga.ee/sundmused/laste-jooga-mustkunsti-ja-maagia-laager/
CATEGORIES:Sündmused,Tunnid ja laagrid
ATTACH;FMTTYPE=image/jpeg:https://lastejooga.ee/wp-content/uploads/2016/08/Lastejooga-laager-13-1.jpg
END:VEVENT
BEGIN:VEVENT
DTSTART;TZID=Europe/Helsinki:20141211T090000
DTEND;TZID=Europe/Helsinki:20141212T160000
DTSTAMP:20260419T215008
CREATED:20160910T143853Z
LAST-MODIFIED:20191211T210220Z
UID:1882-1418288400-1418400000@lastejooga.ee
SUMMARY:Laste jooga talvelaager
DESCRIPTION:Laagris teeme: \nMaksumus:\n1. päev 40 € (Sisaldab tervislikku lõunat ja oodet!)\n2. päeva 70 € (Sisaldab tervislikku lõunat ja oodet!) \nRegistreeru:\nkristiinale@yahoo.cm või kristel@lastejooga.ee.\nTelefon 5053982 – Kristina ja 5216525 – Kristel
URL:https://lastejooga.ee/sundmused/laste-jooga-talvelaager/
LOCATION:Toom-Rüütli 10-2\, Toom-Rüütli 10-2\, Tallinn\, Estonia
CATEGORIES:Sündmused,Tunnid ja laagrid
ATTACH;FMTTYPE=image/jpeg:https://lastejooga.ee/wp-content/uploads/2016/09/Laste-jooga-talvelaager-2014-04.jpg
ORGANIZER;CN="Kristiina Saul":MAILTO:kristiinale@yahoo.com
END:VEVENT
END:VCALENDAR